BEGIN:VCALENDAR
VERSION:2.0
PRODID:-//Klätterteknik - ECPv6.15.20//NONSGML v1.0//EN
CALSCALE:GREGORIAN
METHOD:PUBLISH
X-WR-CALNAME:Klätterteknik
X-ORIGINAL-URL:https://klatterteknik.se
X-WR-CALDESC:Händelser för Klätterteknik
REFRESH-INTERVAL;VALUE=DURATION:PT1H
X-Robots-Tag:noindex
X-PUBLISHED-TTL:PT1H
BEGIN:VTIMEZONE
TZID:Europe/Stockholm
BEGIN:DAYLIGHT
TZOFFSETFROM:+0100
TZOFFSETTO:+0200
TZNAME:CEST
DTSTART:20250330T010000
END:DAYLIGHT
BEGIN:STANDARD
TZOFFSETFROM:+0200
TZOFFSETTO:+0100
TZNAME:CET
DTSTART:20251026T010000
END:STANDARD
BEGIN:DAYLIGHT
TZOFFSETFROM:+0100
TZOFFSETTO:+0200
TZNAME:CEST
DTSTART:20260329T010000
END:DAYLIGHT
BEGIN:STANDARD
TZOFFSETFROM:+0200
TZOFFSETTO:+0100
TZNAME:CET
DTSTART:20261025T010000
END:STANDARD
BEGIN:DAYLIGHT
TZOFFSETFROM:+0100
TZOFFSETTO:+0200
TZNAME:CEST
DTSTART:20270328T010000
END:DAYLIGHT
BEGIN:STANDARD
TZOFFSETFROM:+0200
TZOFFSETTO:+0100
TZNAME:CET
DTSTART:20271031T010000
END:STANDARD
END:VTIMEZONE
BEGIN:VEVENT
DTSTART;TZID=Europe/Stockholm:20260420T080000
DTEND;TZID=Europe/Stockholm:20260424T170000
DTSTAMP:20260424T133046
CREATED:20260107T123411Z
LAST-MODIFIED:20260311T104325Z
UID:21733-1776672000-1777050000@klatterteknik.se
SUMMARY:IRATA Rope Access Training 1–3 (5 dagars kurs)
DESCRIPTION:Vår IRATA-utbildning är en intensiv och praktiskt inriktad 5-dagarskurs som följer IRATA:s internationella standarder för säkerhet och professionell repåtkomst. Kursen är öppen för alla nivåer – Level 1\, Level 2 och Level 3 – och varje deltagare tränar utifrån sin certifieringsgrad. \nUnder veckan går vi igenom tekniker\, säkerhetsrutiner\, riskbedömning\, riggning\, räddning och effektivt arbete på höjd enligt IRATA:s globala riktlinjer. Kursen avslutas med en extern IRATA-bedömning. \nPerfekt för dig som vill ta första steget in i branschen eller vidareutveckla dina befintliga färdigheter på nästa nivå. Vill du jobba professionellt inom repåtkomst är detta kursen som tar dig dit. \nPris per person: 19.100 kr exkl moms
URL:https://klatterteknik.se/kurs/irata-rope-access-training-1-3-5-dagars-kurs-4/
LOCATION:Klätterteknik – Klättercenter\, Esbogatan 11\, Kista\, Stockholm\, 164 74\, Sweden
ATTACH;FMTTYPE=image/jpeg:https://klatterteknik.se/wp-content/uploads/2025/12/KT_IrataKurs.jpg
ORGANIZER;CN="Kl%C3%A4tterteknik":MAILTO:aleksandar.milosevic@klatterteknik.se
END:VEVENT
BEGIN:VEVENT
DTSTART;TZID=Europe/Stockholm:20260507T080000
DTEND;TZID=Europe/Stockholm:20260508T170000
DTSTAMP:20260424T133046
CREATED:20260107T132442Z
LAST-MODIFIED:20260107T132442Z
UID:21761-1778140800-1778259600@klatterteknik.se
SUMMARY:Rope Rescue – Bårhantering (2 dagars kurs)
DESCRIPTION:Denna utbildning är en vidareutveckling av tidigare genomförd workshop och fokuserar på säker och effektiv bårhantering i rope rescue-miljö. Under två intensiva dagar får deltagarna praktisk träning i lyft\, firning\, horisontell och vertikal förflyttning av bår\, med fokus på säkerhet\, kommunikation och arbetsmetodik. \nUtbildningen genomförs i realistiska övningsscenarier och är anpassad för personal som arbetar med teknisk räddning i höjd- och djupmiljöer. \nPris per person: 4.990 kr exkl moms
URL:https://klatterteknik.se/kurs/rope-rescue-barhantering-2-dagars-kurs/
LOCATION:Klätterteknik – Klättercenter\, Esbogatan 11\, Kista\, Stockholm\, 164 74\, Sweden
ATTACH;FMTTYPE=image/jpeg:https://klatterteknik.se/wp-content/uploads/2025/09/rrs.jpg
ORGANIZER;CN="Kl%C3%A4tterteknik":MAILTO:aleksandar.milosevic@klatterteknik.se
END:VEVENT
BEGIN:VEVENT
DTSTART;TZID=Europe/Stockholm:20260525T080000
DTEND;TZID=Europe/Stockholm:20260529T170000
DTSTAMP:20260424T133046
CREATED:20260107T123612Z
LAST-MODIFIED:20260311T104236Z
UID:21736-1779696000-1780074000@klatterteknik.se
SUMMARY:IRATA Rope Access Training 1–3 (5 dagars kurs)
DESCRIPTION:Vår IRATA-utbildning är en intensiv och praktiskt inriktad 5-dagarskurs som följer IRATA:s internationella standarder för säkerhet och professionell repåtkomst. Kursen är öppen för alla nivåer – Level 1\, Level 2 och Level 3 – och varje deltagare tränar utifrån sin certifieringsgrad. \nUnder veckan går vi igenom tekniker\, säkerhetsrutiner\, riskbedömning\, riggning\, räddning och effektivt arbete på höjd enligt IRATA:s globala riktlinjer. Kursen avslutas med en extern IRATA-bedömning. \nPerfekt för dig som vill ta första steget in i branschen eller vidareutveckla dina befintliga färdigheter på nästa nivå. Vill du jobba professionellt inom repåtkomst är detta kursen som tar dig dit. \nPris per person: 19.100 kr exkl moms
URL:https://klatterteknik.se/kurs/irata-rope-access-training-1-3-5-dagars-kurs-5/
LOCATION:Klätterteknik – Klättercenter\, Esbogatan 11\, Kista\, Stockholm\, 164 74\, Sweden
ATTACH;FMTTYPE=image/jpeg:https://klatterteknik.se/wp-content/uploads/2025/12/KT_IrataKurs.jpg
ORGANIZER;CN="Kl%C3%A4tterteknik":MAILTO:aleksandar.milosevic@klatterteknik.se
END:VEVENT
BEGIN:VEVENT
DTSTART;TZID=Europe/Stockholm:20260622T080000
DTEND;TZID=Europe/Stockholm:20260626T170000
DTSTAMP:20260424T133046
CREATED:20260107T123851Z
LAST-MODIFIED:20260107T123851Z
UID:21739-1782115200-1782493200@klatterteknik.se
SUMMARY:IRATA Rope Access Training 1–3 (5 dagars kurs)
DESCRIPTION:Vår IRATA-utbildning är en intensiv och praktiskt inriktad 5-dagarskurs som följer IRATA:s internationella standarder för säkerhet och professionell repåtkomst. Kursen är öppen för alla nivåer – Level 1\, Level 2 och Level 3 – och varje deltagare tränar utifrån sin certifieringsgrad. \nUnder veckan går vi igenom tekniker\, säkerhetsrutiner\, riskbedömning\, riggning\, räddning och effektivt arbete på höjd enligt IRATA:s globala riktlinjer. Kursen avslutas med en extern IRATA-bedömning. \nPerfekt för dig som vill ta första steget in i branschen eller vidareutveckla dina befintliga färdigheter på nästa nivå. Vill du jobba professionellt inom repåtkomst är detta kursen som tar dig dit. \nPris per person: 19.100 kr exkl moms
URL:https://klatterteknik.se/kurs/irata-rope-access-training-1-3-5-dagars-kurs-6/
LOCATION:Klätterteknik – Klättercenter\, Esbogatan 11\, Kista\, Stockholm\, 164 74\, Sweden
ATTACH;FMTTYPE=image/jpeg:https://klatterteknik.se/wp-content/uploads/2025/12/KT_IrataKurs.jpg
ORGANIZER;CN="Kl%C3%A4tterteknik":MAILTO:aleksandar.milosevic@klatterteknik.se
END:VEVENT
BEGIN:VEVENT
DTSTART;TZID=Europe/Stockholm:20260831T080000
DTEND;TZID=Europe/Stockholm:20260904T170000
DTSTAMP:20260424T133046
CREATED:20260107T124110Z
LAST-MODIFIED:20260311T104042Z
UID:21742-1788163200-1788541200@klatterteknik.se
SUMMARY:IRATA Rope Access Training 1–3 (5 dagars kurs)
DESCRIPTION:Vår IRATA-utbildning är en intensiv och praktiskt inriktad 5-dagarskurs som följer IRATA:s internationella standarder för säkerhet och professionell repåtkomst. Kursen är öppen för alla nivåer – Level 1\, Level 2 och Level 3 – och varje deltagare tränar utifrån sin certifieringsgrad. \nUnder veckan går vi igenom tekniker\, säkerhetsrutiner\, riskbedömning\, riggning\, räddning och effektivt arbete på höjd enligt IRATA:s globala riktlinjer. Kursen avslutas med en extern IRATA-bedömning. \nPerfekt för dig som vill ta första steget in i branschen eller vidareutveckla dina befintliga färdigheter på nästa nivå. Vill du jobba professionellt inom repåtkomst är detta kursen som tar dig dit. \nPris per person: 19.100 kr exkl moms
URL:https://klatterteknik.se/kurs/irata-rope-access-training-1-3-5-dagars-kurs-7/
LOCATION:Klätterteknik – Klättercenter\, Esbogatan 11\, Kista\, Stockholm\, 164 74\, Sweden
ATTACH;FMTTYPE=image/jpeg:https://klatterteknik.se/wp-content/uploads/2025/12/KT_IrataKurs.jpg
ORGANIZER;CN="Kl%C3%A4tterteknik":MAILTO:aleksandar.milosevic@klatterteknik.se
END:VEVENT
BEGIN:VEVENT
DTSTART;TZID=Europe/Stockholm:20260910T080000
DTEND;TZID=Europe/Stockholm:20260910T170000
DTSTAMP:20260424T133046
CREATED:20260107T130938Z
LAST-MODIFIED:20260318T075801Z
UID:21757-1789027200-1789059600@klatterteknik.se
SUMMARY:Räddning ur hängande bil (1 dags kurs)
DESCRIPTION:Denna utbildning fokuserar på säker och effektiv räddning vid olyckor där ett fordon har hamnat hängande över en brokant. Genom en realistisk övning iscensätts ett scenario där en bil har lämnat vägbanan och blivit hängande\, vilket ställer höga krav på samverkan\, riskbedömning och tekniska räddningsmetoder. Deltagarna får praktisk träning i stabilisering\, säkring\, tillträde och evakuering under kontrollerade men verklighetstrogna former. \nPris per person: 2.995 kr exkl moms
URL:https://klatterteknik.se/kurs/raddning-ur-hangande-bil-1-dags-kurs/
LOCATION:Klätterteknik – Klättercenter\, Esbogatan 11\, Kista\, Stockholm\, 164 74\, Sweden
ATTACH;FMTTYPE=image/jpeg:https://klatterteknik.se/wp-content/uploads/2026/01/truckKT.jpg
ORGANIZER;CN="Kl%C3%A4tterteknik":MAILTO:aleksandar.milosevic@klatterteknik.se
END:VEVENT
BEGIN:VEVENT
DTSTART;TZID=Europe/Stockholm:20260928T080000
DTEND;TZID=Europe/Stockholm:20261002T170000
DTSTAMP:20260424T133046
CREATED:20260107T124305Z
LAST-MODIFIED:20260311T103948Z
UID:21745-1790582400-1790960400@klatterteknik.se
SUMMARY:IRATA Rope Access Training 1–3 (5 dagars kurs)
DESCRIPTION:Vår IRATA-utbildning är en intensiv och praktiskt inriktad 5-dagarskurs som följer IRATA:s internationella standarder för säkerhet och professionell repåtkomst. Kursen är öppen för alla nivåer – Level 1\, Level 2 och Level 3 – och varje deltagare tränar utifrån sin certifieringsgrad. \nUnder veckan går vi igenom tekniker\, säkerhetsrutiner\, riskbedömning\, riggning\, räddning och effektivt arbete på höjd enligt IRATA:s globala riktlinjer. Kursen avslutas med en extern IRATA-bedömning. \nPerfekt för dig som vill ta första steget in i branschen eller vidareutveckla dina befintliga färdigheter på nästa nivå. Vill du jobba professionellt inom repåtkomst är detta kursen som tar dig dit. \nPris per person: 19.100 kr exkl moms
URL:https://klatterteknik.se/kurs/irata-rope-access-training-1-3-5-dagars-kurs-8/
LOCATION:Klätterteknik – Klättercenter\, Esbogatan 11\, Kista\, Stockholm\, 164 74\, Sweden
ATTACH;FMTTYPE=image/jpeg:https://klatterteknik.se/wp-content/uploads/2025/12/KT_IrataKurs.jpg
ORGANIZER;CN="Kl%C3%A4tterteknik":MAILTO:aleksandar.milosevic@klatterteknik.se
END:VEVENT
BEGIN:VEVENT
DTSTART;TZID=Europe/Stockholm:20261026T080000
DTEND;TZID=Europe/Stockholm:20261030T170000
DTSTAMP:20260424T133046
CREATED:20260107T124656Z
LAST-MODIFIED:20260311T103854Z
UID:21748-1793001600-1793379600@klatterteknik.se
SUMMARY:IRATA Rope Access Training 1–3 (5 dagars kurs)
DESCRIPTION:Vår IRATA-utbildning är en intensiv och praktiskt inriktad 5-dagarskurs som följer IRATA:s internationella standarder för säkerhet och professionell repåtkomst. Kursen är öppen för alla nivåer – Level 1\, Level 2 och Level 3 – och varje deltagare tränar utifrån sin certifieringsgrad. \nUnder veckan går vi igenom tekniker\, säkerhetsrutiner\, riskbedömning\, riggning\, räddning och effektivt arbete på höjd enligt IRATA:s globala riktlinjer. Kursen avslutas med en extern IRATA-bedömning. \nPerfekt för dig som vill ta första steget in i branschen eller vidareutveckla dina befintliga färdigheter på nästa nivå. Vill du jobba professionellt inom repåtkomst är detta kursen som tar dig dit. \nPris per person: 19.100 kr exkl moms
URL:https://klatterteknik.se/kurs/irata-rope-access-training-1-3-5-dagars-kurs-9/
LOCATION:Klätterteknik – Klättercenter\, Esbogatan 11\, Kista\, Stockholm\, 164 74\, Sweden
ATTACH;FMTTYPE=image/jpeg:https://klatterteknik.se/wp-content/uploads/2025/12/KT_IrataKurs.jpg
ORGANIZER;CN="Kl%C3%A4tterteknik":MAILTO:aleksandar.milosevic@klatterteknik.se
END:VEVENT
BEGIN:VEVENT
DTSTART;TZID=Europe/Stockholm:20261123T080000
DTEND;TZID=Europe/Stockholm:20261127T170000
DTSTAMP:20260424T133046
CREATED:20260107T124906Z
LAST-MODIFIED:20260311T103748Z
UID:21751-1795420800-1795798800@klatterteknik.se
SUMMARY:IRATA Rope Access Training 1–3 (5 dagars kurs)
DESCRIPTION:Vår IRATA-utbildning är en intensiv och praktiskt inriktad 5-dagarskurs som följer IRATA:s internationella standarder för säkerhet och professionell repåtkomst. Kursen är öppen för alla nivåer – Level 1\, Level 2 och Level 3 – och varje deltagare tränar utifrån sin certifieringsgrad. \nUnder veckan går vi igenom tekniker\, säkerhetsrutiner\, riskbedömning\, riggning\, räddning och effektivt arbete på höjd enligt IRATA:s globala riktlinjer. Kursen avslutas med en extern IRATA-bedömning. \nPerfekt för dig som vill ta första steget in i branschen eller vidareutveckla dina befintliga färdigheter på nästa nivå. Vill du jobba professionellt inom repåtkomst är detta kursen som tar dig dit. \nPris per person: 19.100 kr exkl moms
URL:https://klatterteknik.se/kurs/irata-rope-access-training-1-3-5-dagars-kurs-10/
LOCATION:Klätterteknik – Klättercenter\, Esbogatan 11\, Kista\, Stockholm\, 164 74\, Sweden
ATTACH;FMTTYPE=image/jpeg:https://klatterteknik.se/wp-content/uploads/2025/12/KT_IrataKurs.jpg
ORGANIZER;CN="Kl%C3%A4tterteknik":MAILTO:aleksandar.milosevic@klatterteknik.se
END:VEVENT
BEGIN:VEVENT
DTSTART;TZID=Europe/Stockholm:20261214T080000
DTEND;TZID=Europe/Stockholm:20261218T170000
DTSTAMP:20260424T133046
CREATED:20260107T125153Z
LAST-MODIFIED:20260306T100754Z
UID:21754-1797235200-1797613200@klatterteknik.se
SUMMARY:IRATA Rope Access Training 1–3 (5 dagars kurs)
DESCRIPTION:Vår IRATA-utbildning är en intensiv och praktiskt inriktad 5-dagarskurs som följer IRATA:s internationella standarder för säkerhet och professionell repåtkomst. Kursen är öppen för alla nivåer – Level 1\, Level 2 och Level 3 – och varje deltagare tränar utifrån sin certifieringsgrad. \nUnder veckan går vi igenom tekniker\, säkerhetsrutiner\, riskbedömning\, riggning\, räddning och effektivt arbete på höjd enligt IRATA:s globala riktlinjer. Kursen avslutas med en extern IRATA-bedömning. \nPerfekt för dig som vill ta första steget in i branschen eller vidareutveckla dina befintliga färdigheter på nästa nivå. Vill du jobba professionellt inom repåtkomst är detta kursen som tar dig dit. \nPris per person: 19.100 kr exkl moms
URL:https://klatterteknik.se/kurs/irata-rope-access-training-1-3-5-dagars-kurs-11/
LOCATION:Klätterteknik – Klättercenter\, Esbogatan 11\, Kista\, Stockholm\, 164 74\, Sweden
ATTACH;FMTTYPE=image/jpeg:https://klatterteknik.se/wp-content/uploads/2025/12/KT_IrataKurs.jpg
ORGANIZER;CN="Kl%C3%A4tterteknik":MAILTO:aleksandar.milosevic@klatterteknik.se
END:VEVENT
END:VCALENDAR