BEGIN:VCALENDAR
VERSION:2.0
PRODID:-//Klätterteknik - ECPv6.15.20//NONSGML v1.0//EN
CALSCALE:GREGORIAN
METHOD:PUBLISH
X-WR-CALNAME:Klätterteknik
X-ORIGINAL-URL:https://klatterteknik.se
X-WR-CALDESC:Händelser för Klätterteknik
REFRESH-INTERVAL;VALUE=DURATION:PT1H
X-Robots-Tag:noindex
X-PUBLISHED-TTL:PT1H
BEGIN:VTIMEZONE
TZID:Europe/Stockholm
BEGIN:DAYLIGHT
TZOFFSETFROM:+0100
TZOFFSETTO:+0200
TZNAME:CEST
DTSTART:20250330T010000
END:DAYLIGHT
BEGIN:STANDARD
TZOFFSETFROM:+0200
TZOFFSETTO:+0100
TZNAME:CET
DTSTART:20251026T010000
END:STANDARD
BEGIN:DAYLIGHT
TZOFFSETFROM:+0100
TZOFFSETTO:+0200
TZNAME:CEST
DTSTART:20260329T010000
END:DAYLIGHT
BEGIN:STANDARD
TZOFFSETFROM:+0200
TZOFFSETTO:+0100
TZNAME:CET
DTSTART:20261025T010000
END:STANDARD
BEGIN:DAYLIGHT
TZOFFSETFROM:+0100
TZOFFSETTO:+0200
TZNAME:CEST
DTSTART:20270328T010000
END:DAYLIGHT
BEGIN:STANDARD
TZOFFSETFROM:+0200
TZOFFSETTO:+0100
TZNAME:CET
DTSTART:20271031T010000
END:STANDARD
END:VTIMEZONE
BEGIN:VEVENT
DTSTART;TZID=Europe/Stockholm:20260323T080000
DTEND;TZID=Europe/Stockholm:20260327T170000
DTSTAMP:20260424T163946
CREATED:20260304T143928Z
LAST-MODIFIED:20260320T121125Z
UID:21981-1774252800-1774630800@klatterteknik.se
SUMMARY:IRATA Rope Access Training 1–3 (5 dagars kurs)
DESCRIPTION:Vår IRATA-utbildning är en intensiv och praktiskt inriktad 5-dagarskurs som följer IRATA:s internationella standarder för säkerhet och professionell repåtkomst. Kursen är öppen för alla nivåer – Level 1\, Level 2 och Level 3 – och varje deltagare tränar utifrån sin certifieringsgrad. \nUnder veckan går vi igenom tekniker\, säkerhetsrutiner\, riskbedömning\, riggning\, räddning och effektivt arbete på höjd enligt IRATA:s globala riktlinjer. Kursen avslutas med en extern IRATA-bedömning. \nPerfekt för dig som vill ta första steget in i branschen eller vidareutveckla dina befintliga färdigheter på nästa nivå. Vill du jobba professionellt inom repåtkomst är detta kursen som tar dig dit. \nPris per person: 19.100 kr exkl moms
URL:https://klatterteknik.se/kurs/irata-rope-access-training-1-3-5-dagars-kurs-2/
LOCATION:Klätterteknik – Klättercenter\, Esbogatan 11\, Kista\, Stockholm\, 164 74\, Sweden
ATTACH;FMTTYPE=image/jpeg:https://klatterteknik.se/wp-content/uploads/2025/12/KT_IrataKurs.jpg
ORGANIZER;CN="Kl%C3%A4tterteknik":MAILTO:aleksandar.milosevic@klatterteknik.se
END:VEVENT
BEGIN:VEVENT
DTSTART;TZID=Europe/Stockholm:20260316T080000
DTEND;TZID=Europe/Stockholm:20260320T170000
DTSTAMP:20260424T163946
CREATED:20260107T123118Z
LAST-MODIFIED:20260311T104410Z
UID:21730-1773648000-1774026000@klatterteknik.se
SUMMARY:IRATA Rope Access Training 1–3 (5 dagars kurs)
DESCRIPTION:Vår IRATA-utbildning är en intensiv och praktiskt inriktad 5-dagarskurs som följer IRATA:s internationella standarder för säkerhet och professionell repåtkomst. Kursen är öppen för alla nivåer – Level 1\, Level 2 och Level 3 – och varje deltagare tränar utifrån sin certifieringsgrad. \nUnder veckan går vi igenom tekniker\, säkerhetsrutiner\, riskbedömning\, riggning\, räddning och effektivt arbete på höjd enligt IRATA:s globala riktlinjer. Kursen avslutas med en extern IRATA-bedömning. \nPerfekt för dig som vill ta första steget in i branschen eller vidareutveckla dina befintliga färdigheter på nästa nivå. Vill du jobba professionellt inom repåtkomst är detta kursen som tar dig dit. \nPris per person: 19.100 kr exkl moms
URL:https://klatterteknik.se/kurs/irata-rope-access-training-1-3-5-dagars-kurs-3/
LOCATION:Klätterteknik – Klättercenter\, Esbogatan 11\, Kista\, Stockholm\, 164 74\, Sweden
ATTACH;FMTTYPE=image/jpeg:https://klatterteknik.se/wp-content/uploads/2025/12/KT_IrataKurs.jpg
ORGANIZER;CN="Kl%C3%A4tterteknik":MAILTO:aleksandar.milosevic@klatterteknik.se
END:VEVENT
BEGIN:VEVENT
DTSTART;TZID=Europe/Stockholm:20260310T080000
DTEND;TZID=Europe/Stockholm:20260310T170000
DTSTAMP:20260424T163946
CREATED:20260304T141103Z
LAST-MODIFIED:20260304T141142Z
UID:21978-1773129600-1773162000@klatterteknik.se
SUMMARY:Fallskydd (1 dags kurs)
DESCRIPTION:Kursen riktar sig till personer som skall utföra arbete från hög höjd\, dvs arbete över 2 meter. Fall från höjd är den absolut vanligaste arbetsplatsolyckan. \nDen här kursen ger deltagaren en ökad förståelse för arbete på höjd samt verktygen som krävs för att skapa en säker arbetsmiljö. \nPris per person: 2950 kr exkl moms
URL:https://klatterteknik.se/kurs/fallskydd-1-dags-kurs-3/
LOCATION:Klätterteknik – Klättercenter\, Esbogatan 11\, Kista\, Stockholm\, 164 74\, Sweden
ATTACH;FMTTYPE=image/jpeg:https://klatterteknik.se/wp-content/uploads/2025/09/fallskydd-1.jpg
ORGANIZER;CN="Kl%C3%A4tterteknik":MAILTO:aleksandar.milosevic@klatterteknik.se
END:VEVENT
BEGIN:VEVENT
DTSTART;TZID=Europe/Stockholm:20260303T080000
DTEND;TZID=Europe/Stockholm:20260303T170000
DTSTAMP:20260424T163946
CREATED:20260220T103339Z
LAST-MODIFIED:20260220T103439Z
UID:21944-1772524800-1772557200@klatterteknik.se
SUMMARY:Fallskydd (1 dags kurs)
DESCRIPTION:Kursen riktar sig till personer som skall utföra arbete från hög höjd\, dvs arbete över 2 meter. Fall från höjd är den absolut vanligaste arbetsplatsolyckan. \nDen här kursen ger deltagaren en ökad förståelse för arbete på höjd samt verktygen som krävs för att skapa en säker arbetsmiljö \nPris per person: 2950 kr exkl moms
URL:https://klatterteknik.se/kurs/fallskydd-1-dags-kurs/
LOCATION:Klätterteknik – Klättercenter\, Esbogatan 11\, Kista\, Stockholm\, 164 74\, Sweden
ATTACH;FMTTYPE=image/jpeg:https://klatterteknik.se/wp-content/uploads/2025/09/fallskydd-1.jpg
ORGANIZER;CN="Kl%C3%A4tterteknik":MAILTO:aleksandar.milosevic@klatterteknik.se
END:VEVENT
BEGIN:VEVENT
DTSTART;TZID=Europe/Stockholm:20260223T080000
DTEND;TZID=Europe/Stockholm:20260225T170000
DTSTAMP:20260424T163946
CREATED:20250923T130907Z
LAST-MODIFIED:20260210T075509Z
UID:21514-1771833600-1772038800@klatterteknik.se
SUMMARY:ORA with Elevated Safety (3 dagars kurs)
DESCRIPTION:Operational Risk Assessment for rope access and rescue operations. \nThis unique course is designed to help you increase safety and understanding in your rope access and rescue systems. Understand the techniques\, anticipate the rescue\, manage the team in a degraded situation and above all analyze the incident or accident so that it cannot happen again. \nThe risk analysis must be permanent and you will work on the virtuous circle B.D.A.B (Before\, During\, After\, Before). \nPris per person: 10500 kr exkl moms
URL:https://klatterteknik.se/kurs/ora-with-elevated-safety-3-dagars-kurs/
LOCATION:Klätterteknik – Klättercenter\, Esbogatan 11\, Kista\, Stockholm\, 164 74\, Sweden
ATTACH;FMTTYPE=image/jpeg:https://klatterteknik.se/wp-content/uploads/2025/09/ORA-1.jpg
ORGANIZER;CN="Kl%C3%A4tterteknik":MAILTO:aleksandar.milosevic@klatterteknik.se
END:VEVENT
BEGIN:VEVENT
DTSTART;VALUE=DATE:20260217
DTEND;VALUE=DATE:20260218
DTSTAMP:20260424T163946
CREATED:20250923T131715Z
LAST-MODIFIED:20260220T103300Z
UID:21525-1771286400-1771372799@klatterteknik.se
SUMMARY:Fallskydd (1 dags kurs)
DESCRIPTION:Kursen riktar sig till personer som skall utföra arbete från hög höjd\, dvs arbete över 2 meter. Fall från höjd är den absolut vanligaste arbetsplatsolyckan. \nDen här kursen ger deltagaren en ökad förståelse för arbete på höjd samt verktygen som krävs för att skapa en säker arbetsmiljö \nPris per person: 2950 kr exkl moms
URL:https://klatterteknik.se/kurs/fallskydd-1-dags-kurs-2/
LOCATION:Klätterteknik – Klättercenter\, Esbogatan 11\, Kista\, Stockholm\, 164 74\, Sweden
ATTACH;FMTTYPE=image/jpeg:https://klatterteknik.se/wp-content/uploads/2025/09/fallskydd-1.jpg
ORGANIZER;CN="Kl%C3%A4tterteknik":MAILTO:aleksandar.milosevic@klatterteknik.se
END:VEVENT
END:VCALENDAR